BEGIN:VCALENDAR
VERSION:2.0
PRODID:-//Garden Spot Village - ECPv6.15.20//NONSGML v1.0//EN
CALSCALE:GREGORIAN
METHOD:PUBLISH
X-WR-CALNAME:Garden Spot Village
X-ORIGINAL-URL:https://www.gardenspotvillage.org
X-WR-CALDESC:Events for Garden Spot Village
REFRESH-INTERVAL;VALUE=DURATION:PT1H
X-Robots-Tag:noindex
X-PUBLISHED-TTL:PT1H
BEGIN:VTIMEZONE
TZID:America/New_York
BEGIN:DAYLIGHT
TZOFFSETFROM:-0500
TZOFFSETTO:-0400
TZNAME:EDT
DTSTART:20240310T070000
END:DAYLIGHT
BEGIN:STANDARD
TZOFFSETFROM:-0400
TZOFFSETTO:-0500
TZNAME:EST
DTSTART:20241103T060000
END:STANDARD
BEGIN:DAYLIGHT
TZOFFSETFROM:-0500
TZOFFSETTO:-0400
TZNAME:EDT
DTSTART:20250309T070000
END:DAYLIGHT
BEGIN:STANDARD
TZOFFSETFROM:-0400
TZOFFSETTO:-0500
TZNAME:EST
DTSTART:20251102T060000
END:STANDARD
BEGIN:DAYLIGHT
TZOFFSETFROM:-0500
TZOFFSETTO:-0400
TZNAME:EDT
DTSTART:20260308T070000
END:DAYLIGHT
BEGIN:STANDARD
TZOFFSETFROM:-0400
TZOFFSETTO:-0500
TZNAME:EST
DTSTART:20261101T060000
END:STANDARD
END:VTIMEZONE
BEGIN:VEVENT
DTSTART;TZID=America/New_York:20251023T190000
DTEND;TZID=America/New_York:20251023T200000
DTSTAMP:20260419T225133
CREATED:20250902T005324Z
LAST-MODIFIED:20251021T123944Z
UID:10001035-1761246000-1761249600@www.gardenspotvillage.org
SUMMARY:New Holland Area Historical Society: Ghost Stories of the Susquehanna Valley
DESCRIPTION:New Holland Historical Society offers monthly educational programs at Garden Spot Village. \nJoin Uncharted Lancaster’s Adam Zurn on Thursday\, October 23\, 2025\, at 7:00 PM for an evening of Ghosts\, Monsters\, and Tales of Adventure. \nThis event is free and open to the public.
URL:https://www.gardenspotvillage.org/event/new-holland-area-historical-society-bismoline-medicated-powder/
LOCATION:Garden Spot Village Chapel\, 433 S Kinzer Ave\, New Holland\, PA 17557\, United States\, PA\, 17557\, United States
CATEGORIES:new holland historical society
END:VEVENT
END:VCALENDAR