BEGIN:VCALENDAR
VERSION:2.0
PRODID:-//Garden Spot Village - ECPv6.15.20//NONSGML v1.0//EN
CALSCALE:GREGORIAN
METHOD:PUBLISH
X-WR-CALNAME:Garden Spot Village
X-ORIGINAL-URL:https://www.gardenspotvillage.org
X-WR-CALDESC:Events for Garden Spot Village
REFRESH-INTERVAL;VALUE=DURATION:PT1H
X-Robots-Tag:noindex
X-PUBLISHED-TTL:PT1H
BEGIN:VTIMEZONE
TZID:America/New_York
BEGIN:DAYLIGHT
TZOFFSETFROM:-0500
TZOFFSETTO:-0400
TZNAME:EDT
DTSTART:20240310T070000
END:DAYLIGHT
BEGIN:STANDARD
TZOFFSETFROM:-0400
TZOFFSETTO:-0500
TZNAME:EST
DTSTART:20241103T060000
END:STANDARD
BEGIN:DAYLIGHT
TZOFFSETFROM:-0500
TZOFFSETTO:-0400
TZNAME:EDT
DTSTART:20250309T070000
END:DAYLIGHT
BEGIN:STANDARD
TZOFFSETFROM:-0400
TZOFFSETTO:-0500
TZNAME:EST
DTSTART:20251102T060000
END:STANDARD
BEGIN:DAYLIGHT
TZOFFSETFROM:-0500
TZOFFSETTO:-0400
TZNAME:EDT
DTSTART:20260308T070000
END:DAYLIGHT
BEGIN:STANDARD
TZOFFSETFROM:-0400
TZOFFSETTO:-0500
TZNAME:EST
DTSTART:20261101T060000
END:STANDARD
END:VTIMEZONE
BEGIN:VEVENT
DTSTART;TZID=America/New_York:20250602T110000
DTEND;TZID=America/New_York:20250602T120000
DTSTAMP:20260419T100353
CREATED:20250430T122308Z
LAST-MODIFIED:20250430T122312Z
UID:10000854-1748862000-1748865600@www.gardenspotvillage.org
SUMMARY:GriefShare
DESCRIPTION:Garden Spot Village will offer a 12-week course that offers help and encouragement after the death of a spouse. We will watch a weekly video and discuss it. Workbooks will be provided. Register by contacting Jenny Snyder at 717.355.6239.
URL:https://www.gardenspotvillage.org/event/griefshare-june2/
LOCATION:Garden Spot Village\, 433 S Kinzer Avenue\, New Holland\, PA\, 17557\, United States
CATEGORIES:community,support group
END:VEVENT
BEGIN:VEVENT
DTSTART;TZID=America/New_York:20250604T100000
DTEND;TZID=America/New_York:20250604T110000
DTSTAMP:20260419T100353
CREATED:20250516T133909Z
LAST-MODIFIED:20250516T133912Z
UID:10000879-1749031200-1749034800@www.gardenspotvillage.org
SUMMARY:Memory Cafe
DESCRIPTION:Please join us for a monthly Memory Café\, hosted by Harry and Hazel Urban and Melody Karick\, ForgeWorks Dementia Consultant and Educator. This event is sponsored by Dementia Friendly Lancaster and will be held at 10am on the first Wednesday of each month. \n\n\n\n\n\nHarry is living purposefully with dementia. Hazel\, Harry’s wife\, models being a happy care partner. Our monthly gatherings will give us time socialize\, share our journeys and laugh together. We will also focus on how to live a happy\, purpose-filled life with a dementia diagnosis\, give you hope and encourage building new dreams together.  \n\n\n\n\n\nAnyone living with a dementia diagnosis and their care partner is welcome to this inclusive event.
URL:https://www.gardenspotvillage.org/event/memory-cafe/
LOCATION:Garden Spot Village\, 433 S Kinzer Avenue\, New Holland\, PA\, 17557\, United States
CATEGORIES:Alzheimer's,cognitive changes,community,dementia,Dementia Learning,Memory Cafe,support group
ORGANIZER;CN="Dementia Friendly Lancaster":MAILTO:info@dementiafriendlylancaster.org
END:VEVENT
BEGIN:VEVENT
DTSTART;TZID=America/New_York:20250609T100000
DTEND;TZID=America/New_York:20250609T110000
DTSTAMP:20260419T100353
CREATED:20250505T001857Z
LAST-MODIFIED:20250505T001900Z
UID:10000867-1749463200-1749466800@www.gardenspotvillage.org
SUMMARY:Care Partner Friends in Community
DESCRIPTION:Garden Spot Village offers a care partners in community group for family care partners of persons with dementia or Alzheimer’s\, which will meet on Monday\, June 10 at 10am in the Concord Room at Garden Spot Village. \n\n\n\n\n\nJanie Martin\, dementia educator and consultant will explain an upcoming opportunity and information about a book club for those experiencing cognitive changes. \n\n\n\n\n\nThe program is free and open to the public. Call 717.355.6171 for more information.
URL:https://www.gardenspotvillage.org/event/care-partner-friends-in-community-6/
LOCATION:Garden Spot Village\, 433 S Kinzer Avenue\, New Holland\, PA\, 17557\, United States
CATEGORIES:Alzheimer's,cognitive changes,dementia
END:VEVENT
BEGIN:VEVENT
DTSTART;TZID=America/New_York:20250609T110000
DTEND;TZID=America/New_York:20250609T120000
DTSTAMP:20260419T100353
CREATED:20250430T122506Z
LAST-MODIFIED:20250430T122509Z
UID:10000855-1749466800-1749470400@www.gardenspotvillage.org
SUMMARY:GriefShare
DESCRIPTION:Garden Spot Village will offer a 12-week course that offers help and encouragement after the death of a spouse. We will watch a weekly video and discuss it. Workbooks will be provided. Register by contacting Jenny Snyder at 717.355.6239.
URL:https://www.gardenspotvillage.org/event/griefshare-june9/
LOCATION:Garden Spot Village\, 433 S Kinzer Avenue\, New Holland\, PA\, 17557\, United States
CATEGORIES:community,support group
END:VEVENT
BEGIN:VEVENT
DTSTART;TZID=America/New_York:20250611T100000
DTEND;TZID=America/New_York:20250611T110000
DTSTAMP:20260419T100353
CREATED:20250505T002031Z
LAST-MODIFIED:20250505T002034Z
UID:10000868-1749636000-1749639600@www.gardenspotvillage.org
SUMMARY:My Fellow Travelers in Community
DESCRIPTION:Noticing cognitive changes in yourself? Join others experiencing the same for fellowship and tips on resilient living in a safe\, relaxed environment. The group will meet on Wednesday\, June 11 at 10am in the Theater at Garden Spot Village. \n\n\n\n\n\nThe program is free and open to the public. Contact Leslie Hartman at 717.355.6076 for more information.
URL:https://www.gardenspotvillage.org/event/my-fellow-travelers-in-community-june11/
LOCATION:Garden Spot Village\, 433 S Kinzer Avenue\, New Holland\, Pennsylvania\, 17557\, United States
CATEGORIES:cognitive changes,dementia,educational,support group
END:VEVENT
BEGIN:VEVENT
DTSTART;TZID=America/New_York:20250616T110000
DTEND;TZID=America/New_York:20250616T120000
DTSTAMP:20260419T100353
CREATED:20250430T122547Z
LAST-MODIFIED:20250430T122550Z
UID:10000856-1750071600-1750075200@www.gardenspotvillage.org
SUMMARY:GriefShare
DESCRIPTION:Garden Spot Village will offer a 12-week course that offers help and encouragement after the death of a spouse. We will watch a weekly video and discuss it. Workbooks will be provided. Register by contacting Jenny Snyder at 717.355.6239.
URL:https://www.gardenspotvillage.org/event/griefshare-june16/
LOCATION:Garden Spot Village\, 433 S Kinzer Avenue\, New Holland\, PA\, 17557\, United States
CATEGORIES:community,support group
END:VEVENT
BEGIN:VEVENT
DTSTART;TZID=America/New_York:20250618T100000
DTEND;TZID=America/New_York:20250618T110000
DTSTAMP:20260419T100353
CREATED:20250505T002258Z
LAST-MODIFIED:20250505T002301Z
UID:10000869-1750240800-1750244400@www.gardenspotvillage.org
SUMMARY:Compassionate Neighbors in Community
DESCRIPTION:Compassionate Neighbors in Community will meet on Wednesday\, June 18 at 10am in the Theater at Garden Spot Village. \n\n\n\n\n\nJoin us for a relaxed\, educational discussion. \n\n\n\n\n\nFree and open to the community\, this monthly event will teach you how to support friends or a family member experiencing cognitive challenges. Facilitated by Garden Spot Village team member Leslie Hartman. For more information\, call 717.355.6076.
URL:https://www.gardenspotvillage.org/event/compassionate-neighbors-in-community-6/
LOCATION:Garden Spot Village\, 433 S Kinzer Avenue\, New Holland\, PA\, 17557\, United States
CATEGORIES:Alzheimer's,cognitive changes,dementia
END:VEVENT
BEGIN:VEVENT
DTSTART;TZID=America/New_York:20250623T110000
DTEND;TZID=America/New_York:20250623T120000
DTSTAMP:20260419T100353
CREATED:20250430T122657Z
LAST-MODIFIED:20250430T122701Z
UID:10000857-1750676400-1750680000@www.gardenspotvillage.org
SUMMARY:GriefShare
DESCRIPTION:Garden Spot Village will offer a 12-week course that offers help and encouragement after the death of a spouse. We will watch a weekly video and discuss it. Workbooks will be provided. Register by contacting Jenny Snyder at 717.355.6239.
URL:https://www.gardenspotvillage.org/event/griefshare-june23/
LOCATION:Garden Spot Village\, 433 S Kinzer Avenue\, New Holland\, PA\, 17557\, United States
CATEGORIES:community,support group
END:VEVENT
BEGIN:VEVENT
DTSTART;TZID=America/New_York:20250623T140000
DTEND;TZID=America/New_York:20250623T150000
DTSTAMP:20260419T100353
CREATED:20250505T004555Z
LAST-MODIFIED:20250505T004634Z
UID:10000874-1750687200-1750690800@www.gardenspotvillage.org
SUMMARY:Parkinson’s Friends in Community
DESCRIPTION:The Parkinson’s Friends in Community at Garden Spot Village will meet on Monday\, June 23\, from 2-3pm in the Garden Towers at Garden Spot Village. \n\n\n\n\n\nSpecial guest Psychologist Emory Otto will offer suggestions for coping with Parkinson’s. Dr. Otto is a seasoned counselor with Family Life Counseling Services. He has helped many people cope with the stress and anxiety that is normal for those dealing with health changes and loss.  \n\n\n\n\n\nIndividuals with Parkinson’s and their families and friends are invited to join us. The program is free and open to the public. \n\n\n\n\n\nFor more information\, call Jenny Snyder at 717.355.6259.
URL:https://www.gardenspotvillage.org/event/parkinsons-friends-in-community-8/
LOCATION:Garden Spot Village\, 433 S Kinzer Avenue\, New Holland\, PA\, 17557\, United States
CATEGORIES:parkinson's,support group
END:VEVENT
BEGIN:VEVENT
DTSTART;TZID=America/New_York:20250630T110000
DTEND;TZID=America/New_York:20250630T120000
DTSTAMP:20260419T100353
CREATED:20250430T122750Z
LAST-MODIFIED:20250430T122822Z
UID:10000858-1751281200-1751284800@www.gardenspotvillage.org
SUMMARY:GriefShare
DESCRIPTION:Garden Spot Village will offer a 12-week course that offers help and encouragement after the death of a spouse. We will watch a weekly video and discuss it. Workbooks will be provided. Register by contacting Jenny Snyder at 717.355.6239.
URL:https://www.gardenspotvillage.org/event/griefshare-june30/
LOCATION:Garden Spot Village\, 433 S Kinzer Avenue\, New Holland\, PA\, 17557\, United States
CATEGORIES:community,support group
END:VEVENT
END:VCALENDAR