BEGIN:VCALENDAR
VERSION:2.0
PRODID:-//Garden Spot Village - ECPv6.15.20//NONSGML v1.0//EN
CALSCALE:GREGORIAN
METHOD:PUBLISH
X-WR-CALNAME:Garden Spot Village
X-ORIGINAL-URL:https://www.gardenspotvillage.org
X-WR-CALDESC:Events for Garden Spot Village
REFRESH-INTERVAL;VALUE=DURATION:PT1H
X-Robots-Tag:noindex
X-PUBLISHED-TTL:PT1H
BEGIN:VTIMEZONE
TZID:America/New_York
BEGIN:DAYLIGHT
TZOFFSETFROM:-0500
TZOFFSETTO:-0400
TZNAME:EDT
DTSTART:20240310T070000
END:DAYLIGHT
BEGIN:STANDARD
TZOFFSETFROM:-0400
TZOFFSETTO:-0500
TZNAME:EST
DTSTART:20241103T060000
END:STANDARD
BEGIN:DAYLIGHT
TZOFFSETFROM:-0500
TZOFFSETTO:-0400
TZNAME:EDT
DTSTART:20250309T070000
END:DAYLIGHT
BEGIN:STANDARD
TZOFFSETFROM:-0400
TZOFFSETTO:-0500
TZNAME:EST
DTSTART:20251102T060000
END:STANDARD
BEGIN:DAYLIGHT
TZOFFSETFROM:-0500
TZOFFSETTO:-0400
TZNAME:EDT
DTSTART:20260308T070000
END:DAYLIGHT
BEGIN:STANDARD
TZOFFSETFROM:-0400
TZOFFSETTO:-0500
TZNAME:EST
DTSTART:20261101T060000
END:STANDARD
END:VTIMEZONE
BEGIN:VEVENT
DTSTART;TZID=America/New_York:20250702T100000
DTEND;TZID=America/New_York:20250702T110000
DTSTAMP:20260419T082829
CREATED:20250702T002805Z
LAST-MODIFIED:20250702T003038Z
UID:10000819-1751450400-1751454000@www.gardenspotvillage.org
SUMMARY:Memory Cafe
DESCRIPTION:Please join us for a monthly Memory Café\, hosted by Harry and Hazel Urban and Melody Karick\, ForgeWorks Dementia Consultant and Educator. This event is sponsored by Dementia Friendly Lancaster and will be held at 10am on the first Wednesday of each month. \n\n\n\n\n\nHarry is living purposefully with dementia. Hazel\, Harry’s wife\, models being a happy care partner. Our monthly gatherings will give us time socialize\, share our journeys and laugh together. We will also focus on how to live a happy\, purpose-filled life with a dementia diagnosis\, give you hope and encourage building new dreams together.  \n\n\n\n\n\nAnyone living with a dementia diagnosis and their care partner is welcome to this inclusive event.
URL:https://www.gardenspotvillage.org/event/memory-cafe-2/
LOCATION:Garden Spot Village\, 433 S Kinzer Avenue\, New Holland\, PA\, 17557\, United States
CATEGORIES:Alzheimer's,cognitive changes,community,dementia,Dementia Learning,Memory Cafe,support group
ORGANIZER;CN="Dementia Friendly Lancaster":MAILTO:info@dementiafriendlylancaster.org
END:VEVENT
BEGIN:VEVENT
DTSTART;TZID=America/New_York:20250709T100000
DTEND;TZID=America/New_York:20250709T110000
DTSTAMP:20260419T082829
CREATED:20250628T004119Z
LAST-MODIFIED:20250628T004122Z
UID:10000882-1752055200-1752058800@www.gardenspotvillage.org
SUMMARY:My Fellow Travelers in Community
DESCRIPTION:Noticing cognitive changes in yourself? Join others experiencing the same for fellowship and tips on resilient living in a safe\, relaxed environment. The group will meet on Wednesday\, July 9 at 10am in the Theater at Garden Spot Village. \n\n\n\n\n\nThe program is free and open to the public. Contact Leslie Hartman at 717.355.6076 for more information.
URL:https://www.gardenspotvillage.org/event/my-fellow-travelers-in-community-jul-9/
LOCATION:Garden Spot Village\, 433 S Kinzer Avenue\, New Holland\, Pennsylvania\, 17557\, United States
CATEGORIES:cognitive changes,dementia,educational,support group
END:VEVENT
BEGIN:VEVENT
DTSTART;TZID=America/New_York:20250714T100000
DTEND;TZID=America/New_York:20250714T110000
DTSTAMP:20260419T082829
CREATED:20250628T005136Z
LAST-MODIFIED:20250628T005139Z
UID:10000885-1752487200-1752490800@www.gardenspotvillage.org
SUMMARY:Book Club for People with Brain Changes
DESCRIPTION:Anyone who is experiencing brain changes or cognitive challenges is welcome to join this book club\, led by Janie Martin\, dementia educator and consultant. Please connect with Alexys Kanagy at 717.355.6171 for more information.
URL:https://www.gardenspotvillage.org/event/book-club-for-people-with-brain-changes/
LOCATION:Garden Spot Village Prayer & Meditation Room\, 433 S Kinzer Avenue\, New Holland\, Pennsylvania\, 17557
CATEGORIES:Alzheimer's,book club,community,dementia,educational,support group
ORGANIZER;CN="ForgeWorks":MAILTO:info@theforgeworks.org
END:VEVENT
BEGIN:VEVENT
DTSTART;TZID=America/New_York:20250714T100000
DTEND;TZID=America/New_York:20250714T110000
DTSTAMP:20260419T082829
CREATED:20250628T231616Z
LAST-MODIFIED:20250628T231620Z
UID:10000815-1752487200-1752490800@www.gardenspotvillage.org
SUMMARY:Care Partner Friends in Community
DESCRIPTION:Garden Spot Village offers a care partners in community group for family care partners of persons with dementia or Alzheimer’s\, which will meet on Monday\, July 14 at 10am in the Concord Room at Garden Spot Village. \n\n\n\n\n\nSpecial guest Laura Feiser\, director of Meadow View will talk about plant therapy. If you are a care partner for a person with memory loss\, join us for a time of learning and connecting with each other. \n\n\n\n\n\nThe program is free and open to the public. Call Alexys Kanagy at 717.355.6171 for more information.
URL:https://www.gardenspotvillage.org/event/care-partner-friends-in-community-july-14/
LOCATION:Garden Spot Village\, 433 S Kinzer Avenue\, New Holland\, PA\, 17557\, United States
CATEGORIES:Alzheimer's,cognitive changes,dementia
END:VEVENT
BEGIN:VEVENT
DTSTART;TZID=America/New_York:20250715T140000
DTEND;TZID=America/New_York:20250715T150000
DTSTAMP:20260419T082829
CREATED:20250628T005907Z
LAST-MODIFIED:20250628T010703Z
UID:10000887-1752588000-1752591600@www.gardenspotvillage.org
SUMMARY:Essential Tremor Friends in Community
DESCRIPTION:The Essential Tremor Friends in Community will meet on Tuesday\, July 15\, from 2-3pm in the Garden Towers at Garden Spot Village. \n\n\n\n\n\nIndividuals with Essential Tremors and their families and friends are invited to participate. \n\n\n\n\n\nJenna Fox\, MS\, OTR/L\, Program Manager of Symbria Rehab\, will provide practical tips from the perspective of an occupational therapist. \n\n\n\n\n\nThis quarterly support group is affiliated with the International Essential Tremor Foundation. The program is free and open to the public. For more information\, call Sherilyn Lapp at 717.355.6264.
URL:https://www.gardenspotvillage.org/event/essential-tremor-friends-in-community-6/
LOCATION:Garden Spot Village\, 433 S Kinzer Avenue\, New Holland\, PA\, 17557\, United States
CATEGORIES:community,essential tremor,support group
END:VEVENT
BEGIN:VEVENT
DTSTART;TZID=America/New_York:20250716T100000
DTEND;TZID=America/New_York:20250716T110000
DTSTAMP:20260419T082829
CREATED:20250628T010147Z
LAST-MODIFIED:20250628T010150Z
UID:10000888-1752660000-1752663600@www.gardenspotvillage.org
SUMMARY:Compassionate Neighbors in Community
DESCRIPTION:Compassionate Neighbors in Community will meet on Wednesday\, July 16 at 10am in the Theater at Garden Spot Village. \n\n\n\n\n\nJoin us for a relaxed\, educational discussion. \n\n\n\n\n\nFree and open to the community\, this monthly event will teach you how to support friends or a family member experiencing cognitive challenges. Facilitated by Garden Spot Village team member Leslie Hartman. For more information\, call 717.355.6076.
URL:https://www.gardenspotvillage.org/event/compassionate-neighbors-in-community-july-16/
LOCATION:Garden Spot Village\, 433 S Kinzer Avenue\, New Holland\, PA\, 17557\, United States
CATEGORIES:Alzheimer's,cognitive changes,dementia
END:VEVENT
BEGIN:VEVENT
DTSTART;TZID=America/New_York:20250716T140000
DTEND;TZID=America/New_York:20250716T150000
DTSTAMP:20260419T082829
CREATED:20250628T010421Z
LAST-MODIFIED:20250628T010602Z
UID:10000889-1752674400-1752678000@www.gardenspotvillage.org
SUMMARY:Friends with Restless Leg Syndrome
DESCRIPTION:Friends with Restless Leg Syndrome will meet on Wednesday\, July 16 at 2pm in the Prayer and Meditation Room at Garden Spot Village. \n\n\n\n\n\nContact Kim Mai at 717.355.6010 for more information. This supportive group is free and open to the public.
URL:https://www.gardenspotvillage.org/event/friends-with-restless-leg-syndrome-jul-16/
LOCATION:Garden Spot Village\, 433 S Kinzer Avenue\, New Holland\, PA\, 17557\, United States
CATEGORIES:community,support group
END:VEVENT
BEGIN:VEVENT
DTSTART;TZID=America/New_York:20250728T140000
DTEND;TZID=America/New_York:20250728T150000
DTSTAMP:20260419T082829
CREATED:20250628T014026Z
LAST-MODIFIED:20250628T014029Z
UID:10000896-1753711200-1753714800@www.gardenspotvillage.org
SUMMARY:Parkinson’s Friends in Community
DESCRIPTION:The Parkinson’s Friends in Community at Garden Spot Village will meet on Monday\, July 28\, from 2-3pm in the Garden Towers at Garden Spot Village. \n\n\n\n\n\nDr. Kyle J Durante\, DDS\, Garden Spot Dental will speak. Good dental care is particularly important for those living with Parkinson’s Disease.  \n\n\n\n\n\nIndividuals with Parkinson’s and their families and friends are invited to join us. The program is free and open to the public. \n\n\n\n\n\nFor more information\, call Sherilyn Lapp at 717.355.6264.
URL:https://www.gardenspotvillage.org/event/parkinsons-friends-in-community-9/
LOCATION:Garden Spot Village\, 433 S Kinzer Avenue\, New Holland\, PA\, 17557\, United States
CATEGORIES:parkinson's,support group
END:VEVENT
END:VCALENDAR